BEGIN:VCALENDAR
VERSION:2.0
PRODID:-//Fleetwood Unchained - ECPv6.15.20//NONSGML v1.0//EN
CALSCALE:GREGORIAN
METHOD:PUBLISH
X-WR-CALNAME:Fleetwood Unchained
X-ORIGINAL-URL:https://fleetwoodunchained.co.uk
X-WR-CALDESC:Events for Fleetwood Unchained
REFRESH-INTERVAL;VALUE=DURATION:PT1H
X-Robots-Tag:noindex
X-PUBLISHED-TTL:PT1H
BEGIN:VTIMEZONE
TZID:Europe/London
BEGIN:DAYLIGHT
TZOFFSETFROM:+0000
TZOFFSETTO:+0100
TZNAME:BST
DTSTART:20240331T010000
END:DAYLIGHT
BEGIN:STANDARD
TZOFFSETFROM:+0100
TZOFFSETTO:+0000
TZNAME:GMT
DTSTART:20241027T010000
END:STANDARD
BEGIN:DAYLIGHT
TZOFFSETFROM:+0000
TZOFFSETTO:+0100
TZNAME:BST
DTSTART:20250330T010000
END:DAYLIGHT
BEGIN:STANDARD
TZOFFSETFROM:+0100
TZOFFSETTO:+0000
TZNAME:GMT
DTSTART:20251026T010000
END:STANDARD
BEGIN:DAYLIGHT
TZOFFSETFROM:+0000
TZOFFSETTO:+0100
TZNAME:BST
DTSTART:20260329T010000
END:DAYLIGHT
BEGIN:STANDARD
TZOFFSETFROM:+0100
TZOFFSETTO:+0000
TZNAME:GMT
DTSTART:20261025T010000
END:STANDARD
END:VTIMEZONE
BEGIN:VEVENT
DTSTART;VALUE=DATE:20250906
DTEND;VALUE=DATE:20250907
DTSTAMP:20260420T183729
CREATED:20250106T145653Z
LAST-MODIFIED:20250106T150118Z
UID:1561-1757116800-1757203199@fleetwoodunchained.co.uk
SUMMARY:Sausage & Cider Fest Stoke-on-Trent
DESCRIPTION:UK’s top Fleetwood mac tribute band
URL:https://fleetwoodunchained.co.uk/tour-date/sausage-cider-fest-stoke-on-trent/
LOCATION:Sausage & Cider Fest\, Stoke-on-Trent\, Hanley Park\, Stoke-on-Trent\, ST1 4DX\, United Kingdom
ATTACH;FMTTYPE=image/jpeg:https://fleetwoodunchained.co.uk/wp-content/uploads/2025/01/007.jpg
END:VEVENT
BEGIN:VEVENT
DTSTART;TZID=Europe/London:20250920T193000
DTEND;TZID=Europe/London:20250920T223000
DTSTAMP:20260420T183729
CREATED:20250401T100029Z
LAST-MODIFIED:20250716T083852Z
UID:1775-1758396600-1758407400@fleetwoodunchained.co.uk
SUMMARY:The Institute
DESCRIPTION:The ultimate Fleetwood Mac tribute  band
URL:https://fleetwoodunchained.co.uk/tour-date/the-institute/
LOCATION:The Institute\, 15 Bocking End\, Braintree\, Essex\, CM7 9AE\, United Kingdom
ATTACH;FMTTYPE=image/jpeg:https://fleetwoodunchained.co.uk/wp-content/uploads/2025/01/014.jpg
END:VEVENT
END:VCALENDAR