BEGIN:VCALENDAR
VERSION:2.0
PRODID:-//Fleetwood Unchained - ECPv6.15.20//NONSGML v1.0//EN
CALSCALE:GREGORIAN
METHOD:PUBLISH
X-ORIGINAL-URL:https://fleetwoodunchained.co.uk
X-WR-CALDESC:Events for Fleetwood Unchained
REFRESH-INTERVAL;VALUE=DURATION:PT1H
X-Robots-Tag:noindex
X-PUBLISHED-TTL:PT1H
BEGIN:VTIMEZONE
TZID:Europe/London
BEGIN:DAYLIGHT
TZOFFSETFROM:+0000
TZOFFSETTO:+0100
TZNAME:BST
DTSTART:20240331T010000
END:DAYLIGHT
BEGIN:STANDARD
TZOFFSETFROM:+0100
TZOFFSETTO:+0000
TZNAME:GMT
DTSTART:20241027T010000
END:STANDARD
BEGIN:DAYLIGHT
TZOFFSETFROM:+0000
TZOFFSETTO:+0100
TZNAME:BST
DTSTART:20250330T010000
END:DAYLIGHT
BEGIN:STANDARD
TZOFFSETFROM:+0100
TZOFFSETTO:+0000
TZNAME:GMT
DTSTART:20251026T010000
END:STANDARD
BEGIN:DAYLIGHT
TZOFFSETFROM:+0000
TZOFFSETTO:+0100
TZNAME:BST
DTSTART:20260329T010000
END:DAYLIGHT
BEGIN:STANDARD
TZOFFSETFROM:+0100
TZOFFSETTO:+0000
TZNAME:GMT
DTSTART:20261025T010000
END:STANDARD
END:VTIMEZONE
BEGIN:VEVENT
DTSTART;TZID=Europe/London:20250704T193000
DTEND;TZID=Europe/London:20250704T223000
DTSTAMP:20260422T095857
CREATED:20240821T095645Z
LAST-MODIFIED:20250106T153053Z
UID:1097-1751657400-1751668200@fleetwoodunchained.co.uk
SUMMARY:Maddermarket Theatre\, Norwich
DESCRIPTION:UK’s top Fleetwood Mac tribute band
URL:https://fleetwoodunchained.co.uk/tour-date/maddermarket-theatre-norwich/
LOCATION:Maddermarket Theatre\, St John's Alley\, Norwich\, NR2 1DR
ATTACH;FMTTYPE=image/jpeg:https://fleetwoodunchained.co.uk/wp-content/uploads/2024/08/FU0012.jpg
END:VEVENT
BEGIN:VEVENT
DTSTART;TZID=Europe/London:20250705T193000
DTEND;TZID=Europe/London:20250705T223000
DTSTAMP:20260422T095857
CREATED:20240821T095959Z
LAST-MODIFIED:20240821T101535Z
UID:1101-1751743800-1751754600@fleetwoodunchained.co.uk
SUMMARY:Arts Centre\, Haverhill
DESCRIPTION:The top UK Fleetwod Mac tribute band
URL:https://fleetwoodunchained.co.uk/tour-date/arts-centre-haverhill/
LOCATION:Arts Centre\, Haverhill\, High St\, Haverhill\, CB9 8AR
ATTACH;FMTTYPE=image/jpeg:https://fleetwoodunchained.co.uk/wp-content/uploads/2024/08/FU0001.jpg
END:VEVENT
BEGIN:VEVENT
DTSTART;VALUE=DATE:20250712
DTEND;VALUE=DATE:20250713
DTSTAMP:20260422T095857
CREATED:20250106T142404Z
LAST-MODIFIED:20250106T142720Z
UID:1547-1752278400-1752364799@fleetwoodunchained.co.uk
SUMMARY:Sausage & Cider Fest Colchester
DESCRIPTION:UK’s top Fleetwood Mac tribute band
URL:https://fleetwoodunchained.co.uk/tour-date/sausage-cider-fest-colchester/
LOCATION:Sausage & Cider Fest\, Colchester\, Lower Castle park\, Colchester\, CO1 1UW\, United Kingdom
ATTACH;FMTTYPE=image/jpeg:https://fleetwoodunchained.co.uk/wp-content/uploads/2025/01/019.jpg
END:VEVENT
BEGIN:VEVENT
DTSTART;VALUE=DATE:20250719
DTEND;VALUE=DATE:20250720
DTSTAMP:20260422T095857
CREATED:20250106T143209Z
LAST-MODIFIED:20250106T143209Z
UID:1551-1752883200-1752969599@fleetwoodunchained.co.uk
SUMMARY:Sausage & Cider Fest IOW
DESCRIPTION:UK’s top Fleetwood Mac tribute band
URL:https://fleetwoodunchained.co.uk/tour-date/sausage-cider-fest-iow/
LOCATION:Sausage & Cider Fest\, Newport IOW\, Downend Rd\, Newport\, PO30 2NU\, United Kingdom
ATTACH;FMTTYPE=image/jpeg:https://fleetwoodunchained.co.uk/wp-content/uploads/2025/01/011.jpg
END:VEVENT
BEGIN:VEVENT
DTSTART;VALUE=DATE:20250726
DTEND;VALUE=DATE:20250727
DTSTAMP:20260422T095857
CREATED:20250106T143809Z
LAST-MODIFIED:20250909T084557Z
UID:1553-1753488000-1753574399@fleetwoodunchained.co.uk
SUMMARY:Sausage & Cider Fest Chelmsford
DESCRIPTION:UK’s top Fleetwood Mac tribute band
URL:https://fleetwoodunchained.co.uk/tour-date/sausage-cider-fest-chelmsford/
LOCATION:Sausage & Cider Fest\, Chelmsford\, Central Park\, Chelmsford\, CM2 0RW
ATTACH;FMTTYPE=image/jpeg:https://fleetwoodunchained.co.uk/wp-content/uploads/2025/01/012.jpg
END:VEVENT
END:VCALENDAR