BEGIN:VCALENDAR
VERSION:2.0
PRODID:-//Fleetwood Unchained - ECPv6.15.20//NONSGML v1.0//EN
CALSCALE:GREGORIAN
METHOD:PUBLISH
X-ORIGINAL-URL:https://fleetwoodunchained.co.uk
X-WR-CALDESC:Events for Fleetwood Unchained
REFRESH-INTERVAL;VALUE=DURATION:PT1H
X-Robots-Tag:noindex
X-PUBLISHED-TTL:PT1H
BEGIN:VTIMEZONE
TZID:Europe/London
BEGIN:DAYLIGHT
TZOFFSETFROM:+0000
TZOFFSETTO:+0100
TZNAME:BST
DTSTART:20230326T010000
END:DAYLIGHT
BEGIN:STANDARD
TZOFFSETFROM:+0100
TZOFFSETTO:+0000
TZNAME:GMT
DTSTART:20231029T010000
END:STANDARD
BEGIN:DAYLIGHT
TZOFFSETFROM:+0000
TZOFFSETTO:+0100
TZNAME:BST
DTSTART:20240331T010000
END:DAYLIGHT
BEGIN:STANDARD
TZOFFSETFROM:+0100
TZOFFSETTO:+0000
TZNAME:GMT
DTSTART:20241027T010000
END:STANDARD
BEGIN:DAYLIGHT
TZOFFSETFROM:+0000
TZOFFSETTO:+0100
TZNAME:BST
DTSTART:20250330T010000
END:DAYLIGHT
BEGIN:STANDARD
TZOFFSETFROM:+0100
TZOFFSETTO:+0000
TZNAME:GMT
DTSTART:20251026T010000
END:STANDARD
END:VTIMEZONE
BEGIN:VEVENT
DTSTART;TZID=Europe/London:20241004T193000
DTEND;TZID=Europe/London:20241004T223000
DTSTAMP:20260422T190724
CREATED:20240731T135840Z
LAST-MODIFIED:20240821T093012Z
UID:908-1728070200-1728081000@fleetwoodunchained.co.uk
SUMMARY:South Hill Park
DESCRIPTION:Fleetwood Unchained deliver a faithful and unforgettable live experience that captures the essence of Fleetwood Mac’s legendary sound.
URL:https://fleetwoodunchained.co.uk/tour-date/south-hill-park/
LOCATION:South Hill Park\, South Hill Park Wilde Theatre\, Ringmead\, Bracknell\, Berkshire\, RG12 7PA
ATTACH;FMTTYPE=image/jpeg:https://fleetwoodunchained.co.uk/wp-content/uploads/2024/06/DSC01830-Enhanced-NR.jpg
END:VEVENT
BEGIN:VEVENT
DTSTART;TZID=Europe/London:20241011T193000
DTEND;TZID=Europe/London:20241011T223000
DTSTAMP:20260422T190724
CREATED:20240731T140112Z
LAST-MODIFIED:20240803T130912Z
UID:910-1728675000-1728685800@fleetwoodunchained.co.uk
SUMMARY:Colchester Arts Centre
DESCRIPTION:Fleetwood Unchained deliver a faithful and unforgettable live experience that captures the essence of Fleetwood Mac’s legendary sound.
URL:https://fleetwoodunchained.co.uk/tour-date/colchester-arts-centre/
LOCATION:Colchester Arts Centre\, Church Street\, Colchester\, Essex\, CO1 1NF
ATTACH;FMTTYPE=image/jpeg:https://fleetwoodunchained.co.uk/wp-content/uploads/2023/10/01band01-scaled.jpg
END:VEVENT
BEGIN:VEVENT
DTSTART;TZID=Europe/London:20241012T193000
DTEND;TZID=Europe/London:20241012T223000
DTSTAMP:20260422T190724
CREATED:20240731T140621Z
LAST-MODIFIED:20240821T092930Z
UID:914-1728761400-1728772200@fleetwoodunchained.co.uk
SUMMARY:Playhouse Theatre\, Whitstable
DESCRIPTION:Fleetwood Mac’s timeless hits\, from the early blues-infused Peter Green classics to the pop-rock anthems that made them international superstars.
URL:https://fleetwoodunchained.co.uk/tour-date/playhouse-theatre-whitstable/
LOCATION:Playhouse Theatre\, 104 High St\, Whitstable\, Kent\, CT5 1AZ
ATTACH;FMTTYPE=image/jpeg:https://fleetwoodunchained.co.uk/wp-content/uploads/2024/07/Christine-McVie.jpg
END:VEVENT
BEGIN:VEVENT
DTSTART;TZID=Europe/London:20241026T193000
DTEND;TZID=Europe/London:20241026T223000
DTSTAMP:20260422T190724
CREATED:20240731T140817Z
LAST-MODIFIED:20240821T092844Z
UID:916-1729971000-1729981800@fleetwoodunchained.co.uk
SUMMARY:The Parkhouse Centre\, Bude
DESCRIPTION:Fleetwood Unchained deliver a faithful and unforgettable live experience that captures the essence of Fleetwood Mac’s legendary sound.
URL:https://fleetwoodunchained.co.uk/tour-date/the-parkhouse-centre-bude/
LOCATION:The Parkhouse Centre\, Ergue-Gaberic Way\, Bude\, Cornwall\, EX23 8LD
ATTACH;FMTTYPE=image/jpeg:https://fleetwoodunchained.co.uk/wp-content/uploads/2024/06/DSC03328-Enhanced-NR.jpg
END:VEVENT
END:VCALENDAR