BEGIN:VCALENDAR
VERSION:2.0
PRODID:-//Fleetwood Unchained - ECPv6.15.20//NONSGML v1.0//EN
CALSCALE:GREGORIAN
METHOD:PUBLISH
X-WR-CALNAME:Fleetwood Unchained
X-ORIGINAL-URL:https://fleetwoodunchained.co.uk
X-WR-CALDESC:Events for Fleetwood Unchained
REFRESH-INTERVAL;VALUE=DURATION:PT1H
X-Robots-Tag:noindex
X-PUBLISHED-TTL:PT1H
BEGIN:VTIMEZONE
TZID:Europe/London
BEGIN:DAYLIGHT
TZOFFSETFROM:+0000
TZOFFSETTO:+0100
TZNAME:BST
DTSTART:20240331T010000
END:DAYLIGHT
BEGIN:STANDARD
TZOFFSETFROM:+0100
TZOFFSETTO:+0000
TZNAME:GMT
DTSTART:20241027T010000
END:STANDARD
BEGIN:DAYLIGHT
TZOFFSETFROM:+0000
TZOFFSETTO:+0100
TZNAME:BST
DTSTART:20250330T010000
END:DAYLIGHT
BEGIN:STANDARD
TZOFFSETFROM:+0100
TZOFFSETTO:+0000
TZNAME:GMT
DTSTART:20251026T010000
END:STANDARD
BEGIN:DAYLIGHT
TZOFFSETFROM:+0000
TZOFFSETTO:+0100
TZNAME:BST
DTSTART:20260329T010000
END:DAYLIGHT
BEGIN:STANDARD
TZOFFSETFROM:+0100
TZOFFSETTO:+0000
TZNAME:GMT
DTSTART:20261025T010000
END:STANDARD
END:VTIMEZONE
BEGIN:VEVENT
DTSTART;VALUE=DATE:20250712
DTEND;VALUE=DATE:20250713
DTSTAMP:20260420T225705
CREATED:20250106T142404Z
LAST-MODIFIED:20250106T142720Z
UID:1547-1752278400-1752364799@fleetwoodunchained.co.uk
SUMMARY:Sausage & Cider Fest Colchester
DESCRIPTION:UK’s top Fleetwood Mac tribute band
URL:https://fleetwoodunchained.co.uk/tour-date/sausage-cider-fest-colchester/
LOCATION:Sausage & Cider Fest\, Colchester\, Lower Castle park\, Colchester\, CO1 1UW\, United Kingdom
ATTACH;FMTTYPE=image/jpeg:https://fleetwoodunchained.co.uk/wp-content/uploads/2025/01/019.jpg
END:VEVENT
END:VCALENDAR