BEGIN:VCALENDAR
VERSION:2.0
PRODID:-//Fleetwood Unchained - ECPv6.15.20//NONSGML v1.0//EN
CALSCALE:GREGORIAN
METHOD:PUBLISH
X-ORIGINAL-URL:https://fleetwoodunchained.co.uk
X-WR-CALDESC:Events for Fleetwood Unchained
REFRESH-INTERVAL;VALUE=DURATION:PT1H
X-Robots-Tag:noindex
X-PUBLISHED-TTL:PT1H
BEGIN:VTIMEZONE
TZID:Europe/London
BEGIN:DAYLIGHT
TZOFFSETFROM:+0000
TZOFFSETTO:+0100
TZNAME:BST
DTSTART:20230326T010000
END:DAYLIGHT
BEGIN:STANDARD
TZOFFSETFROM:+0100
TZOFFSETTO:+0000
TZNAME:GMT
DTSTART:20231029T010000
END:STANDARD
BEGIN:DAYLIGHT
TZOFFSETFROM:+0000
TZOFFSETTO:+0100
TZNAME:BST
DTSTART:20240331T010000
END:DAYLIGHT
BEGIN:STANDARD
TZOFFSETFROM:+0100
TZOFFSETTO:+0000
TZNAME:GMT
DTSTART:20241027T010000
END:STANDARD
BEGIN:DAYLIGHT
TZOFFSETFROM:+0000
TZOFFSETTO:+0100
TZNAME:BST
DTSTART:20250330T010000
END:DAYLIGHT
BEGIN:STANDARD
TZOFFSETFROM:+0100
TZOFFSETTO:+0000
TZNAME:GMT
DTSTART:20251026T010000
END:STANDARD
END:VTIMEZONE
BEGIN:VEVENT
DTSTART;TZID=Europe/London:20241012T193000
DTEND;TZID=Europe/London:20241012T223000
DTSTAMP:20260422T202221
CREATED:20240731T140621Z
LAST-MODIFIED:20240821T092930Z
UID:914-1728761400-1728772200@fleetwoodunchained.co.uk
SUMMARY:Playhouse Theatre\, Whitstable
DESCRIPTION:Fleetwood Mac’s timeless hits\, from the early blues-infused Peter Green classics to the pop-rock anthems that made them international superstars.
URL:https://fleetwoodunchained.co.uk/tour-date/playhouse-theatre-whitstable/
LOCATION:Playhouse Theatre\, 104 High St\, Whitstable\, Kent\, CT5 1AZ
ATTACH;FMTTYPE=image/jpeg:https://fleetwoodunchained.co.uk/wp-content/uploads/2024/07/Christine-McVie.jpg
END:VEVENT
END:VCALENDAR